BEGIN:VCALENDAR
VERSION:2.0
PRODID:-//Fachstelle NÖ - ECPv6.15.19//NONSGML v1.0//EN
CALSCALE:GREGORIAN
METHOD:PUBLISH
X-WR-CALNAME:Fachstelle NÖ
X-ORIGINAL-URL:https://fachstelle.at
X-WR-CALDESC:Veranstaltungen für Fachstelle NÖ
REFRESH-INTERVAL;VALUE=DURATION:PT1H
X-Robots-Tag:noindex
X-PUBLISHED-TTL:PT1H
BEGIN:VTIMEZONE
TZID:Europe/Vienna
BEGIN:DAYLIGHT
TZOFFSETFROM:+0100
TZOFFSETTO:+0200
TZNAME:CEST
DTSTART:20250330T010000
END:DAYLIGHT
BEGIN:STANDARD
TZOFFSETFROM:+0200
TZOFFSETTO:+0100
TZNAME:CET
DTSTART:20251026T010000
END:STANDARD
BEGIN:DAYLIGHT
TZOFFSETFROM:+0100
TZOFFSETTO:+0200
TZNAME:CEST
DTSTART:20260329T010000
END:DAYLIGHT
BEGIN:STANDARD
TZOFFSETFROM:+0200
TZOFFSETTO:+0100
TZNAME:CET
DTSTART:20261025T010000
END:STANDARD
BEGIN:DAYLIGHT
TZOFFSETFROM:+0100
TZOFFSETTO:+0200
TZNAME:CEST
DTSTART:20270328T010000
END:DAYLIGHT
BEGIN:STANDARD
TZOFFSETFROM:+0200
TZOFFSETTO:+0100
TZNAME:CET
DTSTART:20271031T010000
END:STANDARD
BEGIN:DAYLIGHT
TZOFFSETFROM:+0100
TZOFFSETTO:+0200
TZNAME:CEST
DTSTART:20280326T010000
END:DAYLIGHT
BEGIN:STANDARD
TZOFFSETFROM:+0200
TZOFFSETTO:+0100
TZNAME:CET
DTSTART:20281029T010000
END:STANDARD
END:VTIMEZONE
BEGIN:VEVENT
DTSTART;TZID=Europe/Vienna:20261016T150000
DTEND;TZID=Europe/Vienna:20261016T183000
DTSTAMP:20260421T103818
CREATED:20260401T120324Z
LAST-MODIFIED:20260408T133831Z
UID:10000017-1792162800-1792175400@fachstelle.at
SUMMARY:Wochenendkurs Herbst/Winter 2026: „Gemeinsam stark werden“ für den elementaren Bildungsbereich
DESCRIPTION:yuryimaging - stock.adobe.com						\n					\n				\n				\n			\n			\n		\n						\n				\n				\n									Wie kann ich in der Gruppe spielerisch vermitteln\, wie man mit starken Gefühlen\, Problemen und Konflikten umgeht? Wie kann ich die Gesundheit der Kinder effektiv fördern und sie unterstützen? „Gemeinsam stark werden“ wurde speziell für den elementaren Bildungsbereich entwickelt und unterstützt Sie als Expert*innen mit umfangreichen Materialien bei der Exploration und Förderung der von der WHO beschriebenen Lebenskompetenzen. Die im Kurs enthaltene umfangreiche Mappe können Sie\, ohne viel zusätzliche Vorbereitung\, direkt in Ihrem Gruppen-Alltag einsetzen und individuell jene Methoden und Reflexionen heranziehen\, die gerade passend sind. Weitere Informationen zum Programm finden Sie hier: www.gemeinsam-stark-werden.org https://www.fachstelle.at/portfolio/gemeinsam-stark-werden-kindergarten/ Zu den MaterialienAlle Absolvent*innen des Programms erhalten: Eine Teilnahmebestätigung über den erfolgreichen Besuch der SchulungEine umfangreiche Mappe mit zahlreichen Methoden für Kinder von 0–3 und 3–6 JahrenEin Set vielfältig einsetzbarer EmotionskartenIdeen und Anregungen für das PortfolioZugang zum online Portal\, in dem Sie Zugriff auf die digitale Version der Methoden sowie auf laufend neue Materialien habenOptional: Eine unserer liebevoll gestalteten Handpuppen Lommel\, Polli und Marv (Kosten 31\,-)TermineFr. 16.10.2026\, 15:00 – 18:30Sa. 17.10.2026\, 09:00 – 17:00Fr. 13.11.2026\, 15:00 – 18:30Sa. 14.11.2026\, 09:00 – 17:00 Reflexionstreffen:Sa. 23.01.2027\, 09:00 – 15:30 ZielgruppeDas Fortbildungsangebot richtet sich an Kindergartenpädagog*innen\, Kindergartenbetreuer*innen\, Tageseltern\, Betreuer*innen (Tageseinrichtungen) etc.\, welche mit Kindern im Alter von 0–3 und/oder 3–6 Jahren arbeiten. KostenDie Fachstelle für Prävention NÖ stellt Ihnen dieses Angebot kostenlos zur Verfügung. 								\n				\n										\n						\n									Zur Anmeldung
URL:https://fachstelle.at/veranstaltung/wochenendkurs-herbst-winter-2026-gemeinsam-stark-werden-fuer-den-elementaren-bildungsbereich/
LOCATION:Fachstelle für Prävention NÖ / Seminarraum\, EG\, Linzerstraße 17\, St. Pölten\, 3100\, Austria
CATEGORIES:Veranstaltung
ATTACH;FMTTYPE=image/jpeg:https://fachstelle.at/wp-content/uploads/2026/02/AdobeStock_79620754-scaled-1.jpeg
END:VEVENT
BEGIN:VEVENT
DTSTART;TZID=Europe/Vienna:20261017T090000
DTEND;TZID=Europe/Vienna:20261017T170000
DTSTAMP:20260421T103818
CREATED:20260401T121528Z
LAST-MODIFIED:20260408T133842Z
UID:10000051-1792227600-1792256400@fachstelle.at
SUMMARY:Wochenendkurs Herbst/Winter 2026: „Gemeinsam stark werden“ für den elementaren Bildungsbereich
DESCRIPTION:yuryimaging - stock.adobe.com						\n					\n				\n				\n			\n			\n		\n						\n				\n				\n									Wie kann ich in der Gruppe spielerisch vermitteln\, wie man mit starken Gefühlen\, Problemen und Konflikten umgeht? Wie kann ich die Gesundheit der Kinder effektiv fördern und sie unterstützen? „Gemeinsam stark werden“ wurde speziell für den elementaren Bildungsbereich entwickelt und unterstützt Sie als Expert*innen mit umfangreichen Materialien bei der Exploration und Förderung der von der WHO beschriebenen Lebenskompetenzen. Die im Kurs enthaltene umfangreiche Mappe können Sie\, ohne viel zusätzliche Vorbereitung\, direkt in Ihrem Gruppen-Alltag einsetzen und individuell jene Methoden und Reflexionen heranziehen\, die gerade passend sind. Weitere Informationen zum Programm finden Sie hier: www.gemeinsam-stark-werden.org https://www.fachstelle.at/portfolio/gemeinsam-stark-werden-kindergarten/ Zu den MaterialienAlle Absolvent*innen des Programms erhalten: Eine Teilnahmebestätigung über den erfolgreichen Besuch der SchulungEine umfangreiche Mappe mit zahlreichen Methoden für Kinder von 0–3 und 3–6 JahrenEin Set vielfältig einsetzbarer EmotionskartenIdeen und Anregungen für das PortfolioZugang zum online Portal\, in dem Sie Zugriff auf die digitale Version der Methoden sowie auf laufend neue Materialien habenOptional: Eine unserer liebevoll gestalteten Handpuppen Lommel\, Polli und Marv (Kosten 31\,-)TermineFr. 16.10.2026\, 15:00 – 18:30Sa. 17.10.2026\, 09:00 – 17:00Fr. 13.11.2026\, 15:00 – 18:30Sa. 14.11.2026\, 09:00 – 17:00 Reflexionstreffen:Sa. 23.01.2027\, 09:00 – 15:30 ZielgruppeDas Fortbildungsangebot richtet sich an Kindergartenpädagog*innen\, Kindergartenbetreuer*innen\, Tageseltern\, Betreuer*innen (Tageseinrichtungen) etc.\, welche mit Kindern im Alter von 0–3 und/oder 3–6 Jahren arbeiten. KostenDie Fachstelle für Prävention NÖ stellt Ihnen dieses Angebot kostenlos zur Verfügung. 								\n				\n										\n						\n									Zur Anmeldung
URL:https://fachstelle.at/veranstaltung/wochenendkurs-herbst-winter-2026-gemeinsam-stark-werden-fuer-den-elementaren-bildungsbereich-2/
LOCATION:Fachstelle für Prävention NÖ / Seminarraum\, EG\, Linzerstraße 17\, St. Pölten\, 3100\, Austria
CATEGORIES:Veranstaltung
ATTACH;FMTTYPE=image/jpeg:https://fachstelle.at/wp-content/uploads/2026/02/AdobeStock_79620754-scaled-1.jpeg
END:VEVENT
BEGIN:VEVENT
DTSTART;TZID=Europe/Vienna:20261113T150000
DTEND;TZID=Europe/Vienna:20261113T183000
DTSTAMP:20260421T103818
CREATED:20260401T121830Z
LAST-MODIFIED:20260408T133850Z
UID:10000052-1794582000-1794594600@fachstelle.at
SUMMARY:Wochenendkurs Herbst/Winter 2026: „Gemeinsam stark werden“ für den elementaren Bildungsbereich
DESCRIPTION:yuryimaging - stock.adobe.com						\n					\n				\n				\n			\n			\n		\n						\n				\n				\n									Wie kann ich in der Gruppe spielerisch vermitteln\, wie man mit starken Gefühlen\, Problemen und Konflikten umgeht? Wie kann ich die Gesundheit der Kinder effektiv fördern und sie unterstützen? „Gemeinsam stark werden“ wurde speziell für den elementaren Bildungsbereich entwickelt und unterstützt Sie als Expert*innen mit umfangreichen Materialien bei der Exploration und Förderung der von der WHO beschriebenen Lebenskompetenzen. Die im Kurs enthaltene umfangreiche Mappe können Sie\, ohne viel zusätzliche Vorbereitung\, direkt in Ihrem Gruppen-Alltag einsetzen und individuell jene Methoden und Reflexionen heranziehen\, die gerade passend sind. Weitere Informationen zum Programm finden Sie hier: www.gemeinsam-stark-werden.org https://www.fachstelle.at/portfolio/gemeinsam-stark-werden-kindergarten/ Zu den MaterialienAlle Absolvent*innen des Programms erhalten: Eine Teilnahmebestätigung über den erfolgreichen Besuch der SchulungEine umfangreiche Mappe mit zahlreichen Methoden für Kinder von 0–3 und 3–6 JahrenEin Set vielfältig einsetzbarer EmotionskartenIdeen und Anregungen für das PortfolioZugang zum online Portal\, in dem Sie Zugriff auf die digitale Version der Methoden sowie auf laufend neue Materialien habenOptional: Eine unserer liebevoll gestalteten Handpuppen Lommel\, Polli und Marv (Kosten 31\,-)TermineFr. 16.10.2026\, 15:00 – 18:30Sa. 17.10.2026\, 09:00 – 17:00Fr. 13.11.2026\, 15:00 – 18:30Sa. 14.11.2026\, 09:00 – 17:00 Reflexionstreffen:Sa. 23.01.2027\, 09:00 – 15:30 ZielgruppeDas Fortbildungsangebot richtet sich an Kindergartenpädagog*innen\, Kindergartenbetreuer*innen\, Tageseltern\, Betreuer*innen (Tageseinrichtungen) etc.\, welche mit Kindern im Alter von 0–3 und/oder 3–6 Jahren arbeiten. KostenDie Fachstelle für Prävention NÖ stellt Ihnen dieses Angebot kostenlos zur Verfügung. 								\n				\n										\n						\n									Zur Anmeldung
URL:https://fachstelle.at/veranstaltung/wochenendkurs-herbst-winter-2026-gemeinsam-stark-werden-fuer-den-elementaren-bildungsbereich-3/
LOCATION:Fachstelle für Prävention NÖ / Seminarraum\, EG\, Linzerstraße 17\, St. Pölten\, 3100\, Austria
CATEGORIES:Veranstaltung
ATTACH;FMTTYPE=image/jpeg:https://fachstelle.at/wp-content/uploads/2026/02/AdobeStock_79620754-scaled-1.jpeg
END:VEVENT
BEGIN:VEVENT
DTSTART;TZID=Europe/Vienna:20261114T090000
DTEND;TZID=Europe/Vienna:20261114T170000
DTSTAMP:20260421T103818
CREATED:20260401T122326Z
LAST-MODIFIED:20260408T133858Z
UID:10000053-1794646800-1794675600@fachstelle.at
SUMMARY:Wochenendkurs Herbst/Winter 2026: „Gemeinsam stark werden“ für den elementaren Bildungsbereich
DESCRIPTION:yuryimaging - stock.adobe.com						\n					\n				\n				\n			\n			\n		\n						\n				\n				\n									Wie kann ich in der Gruppe spielerisch vermitteln\, wie man mit starken Gefühlen\, Problemen und Konflikten umgeht? Wie kann ich die Gesundheit der Kinder effektiv fördern und sie unterstützen? „Gemeinsam stark werden“ wurde speziell für den elementaren Bildungsbereich entwickelt und unterstützt Sie als Expert*innen mit umfangreichen Materialien bei der Exploration und Förderung der von der WHO beschriebenen Lebenskompetenzen. Die im Kurs enthaltene umfangreiche Mappe können Sie\, ohne viel zusätzliche Vorbereitung\, direkt in Ihrem Gruppen-Alltag einsetzen und individuell jene Methoden und Reflexionen heranziehen\, die gerade passend sind. Weitere Informationen zum Programm finden Sie hier: www.gemeinsam-stark-werden.org https://www.fachstelle.at/portfolio/gemeinsam-stark-werden-kindergarten/ Zu den MaterialienAlle Absolvent*innen des Programms erhalten: Eine Teilnahmebestätigung über den erfolgreichen Besuch der SchulungEine umfangreiche Mappe mit zahlreichen Methoden für Kinder von 0–3 und 3–6 JahrenEin Set vielfältig einsetzbarer EmotionskartenIdeen und Anregungen für das PortfolioZugang zum online Portal\, in dem Sie Zugriff auf die digitale Version der Methoden sowie auf laufend neue Materialien habenOptional: Eine unserer liebevoll gestalteten Handpuppen Lommel\, Polli und Marv (Kosten 31\,-)TermineFr. 16.10.2026\, 15:00 – 18:30Sa. 17.10.2026\, 09:00 – 17:00Fr. 13.11.2026\, 15:00 – 18:30Sa. 14.11.2026\, 09:00 – 17:00 Reflexionstreffen:Sa. 23.01.2027\, 09:00 – 15:30 ZielgruppeDas Fortbildungsangebot richtet sich an Kindergartenpädagog*innen\, Kindergartenbetreuer*innen\, Tageseltern\, Betreuer*innen (Tageseinrichtungen) etc.\, welche mit Kindern im Alter von 0–3 und/oder 3–6 Jahren arbeiten. KostenDie Fachstelle für Prävention NÖ stellt Ihnen dieses Angebot kostenlos zur Verfügung. 								\n				\n										\n						\n									Zur Anmeldung
URL:https://fachstelle.at/veranstaltung/wochenendkurs-herbst-winter-2026-gemeinsam-stark-werden-fuer-den-elementaren-bildungsbereich-4/
LOCATION:Fachstelle für Prävention NÖ / Seminarraum\, EG\, Linzerstraße 17\, St. Pölten\, 3100\, Austria
CATEGORIES:Veranstaltung
ATTACH;FMTTYPE=image/jpeg:https://fachstelle.at/wp-content/uploads/2026/02/AdobeStock_79620754-scaled-1.jpeg
END:VEVENT
BEGIN:VEVENT
DTSTART;TZID=Europe/Vienna:20270123T090000
DTEND;TZID=Europe/Vienna:20270123T153000
DTSTAMP:20260421T103818
CREATED:20260401T122555Z
LAST-MODIFIED:20260408T133906Z
UID:10000054-1800694800-1800718200@fachstelle.at
SUMMARY:Wochenendkurs Herbst/Winter 2026: „Gemeinsam stark werden“ für den elementaren Bildungsbereich
DESCRIPTION:yuryimaging - stock.adobe.com						\n					\n				\n				\n			\n			\n		\n						\n				\n				\n									Wie kann ich in der Gruppe spielerisch vermitteln\, wie man mit starken Gefühlen\, Problemen und Konflikten umgeht? Wie kann ich die Gesundheit der Kinder effektiv fördern und sie unterstützen? „Gemeinsam stark werden“ wurde speziell für den elementaren Bildungsbereich entwickelt und unterstützt Sie als Expert*innen mit umfangreichen Materialien bei der Exploration und Förderung der von der WHO beschriebenen Lebenskompetenzen. Die im Kurs enthaltene umfangreiche Mappe können Sie\, ohne viel zusätzliche Vorbereitung\, direkt in Ihrem Gruppen-Alltag einsetzen und individuell jene Methoden und Reflexionen heranziehen\, die gerade passend sind. Weitere Informationen zum Programm finden Sie hier: www.gemeinsam-stark-werden.org https://www.fachstelle.at/portfolio/gemeinsam-stark-werden-kindergarten/ Zu den MaterialienAlle Absolvent*innen des Programms erhalten: Eine Teilnahmebestätigung über den erfolgreichen Besuch der SchulungEine umfangreiche Mappe mit zahlreichen Methoden für Kinder von 0–3 und 3–6 JahrenEin Set vielfältig einsetzbarer EmotionskartenIdeen und Anregungen für das PortfolioZugang zum online Portal\, in dem Sie Zugriff auf die digitale Version der Methoden sowie auf laufend neue Materialien habenOptional: Eine unserer liebevoll gestalteten Handpuppen Lommel\, Polli und Marv (Kosten 31\,-)TermineFr. 16.10.2026\, 15:00 – 18:30Sa. 17.10.2026\, 09:00 – 17:00Fr. 13.11.2026\, 15:00 – 18:30Sa. 14.11.2026\, 09:00 – 17:00 Reflexionstreffen:Sa. 23.01.2027\, 09:00 – 15:30 ZielgruppeDas Fortbildungsangebot richtet sich an Kindergartenpädagog*innen\, Kindergartenbetreuer*innen\, Tageseltern\, Betreuer*innen (Tageseinrichtungen) etc.\, welche mit Kindern im Alter von 0–3 und/oder 3–6 Jahren arbeiten. KostenDie Fachstelle für Prävention NÖ stellt Ihnen dieses Angebot kostenlos zur Verfügung. 								\n				\n										\n						\n									Zur Anmeldung
URL:https://fachstelle.at/veranstaltung/wochenendkurs-herbst-winter-2026-gemeinsam-stark-werden-fuer-den-elementaren-bildungsbereich-5/
LOCATION:Fachstelle für Prävention NÖ / Seminarraum\, EG\, Linzerstraße 17\, St. Pölten\, 3100\, Austria
CATEGORIES:Veranstaltung
ATTACH;FMTTYPE=image/jpeg:https://fachstelle.at/wp-content/uploads/2026/02/AdobeStock_79620754-scaled-1.jpeg
END:VEVENT
END:VCALENDAR